BEGIN:VCALENDAR
VERSION:2.0
PRODID:-//wp-events-plugin.com//7.2.3.1//EN
TZID:Europe/Paris
X-WR-TIMEZONE:Europe/Paris
BEGIN:VEVENT
UID:9@r3stournus.fr
DTSTART;TZID=Europe/Paris:20240503T084500
DTEND;TZID=Europe/Paris:20240503T160000
DTSTAMP:20240530T151106Z
URL:https://r3stournus.fr/calendrier/journee-des-internes/
SUMMARY:Journée des internes
DESCRIPTION:Journée découverte du tournugeois avec repas et visites pour 
 les internes\, téléchargez l'invitation et le programme : Invitation ét
 udiants - 3 mai 2024
CATEGORIES:CPTS
END:VEVENT
BEGIN:VTIMEZONE
TZID:Europe/Paris
X-LIC-LOCATION:Europe/Paris
BEGIN:DAYLIGHT
DTSTART:20240331T030000
TZOFFSETFROM:+0100
TZOFFSETTO:+0200
TZNAME:CEST
END:DAYLIGHT
END:VTIMEZONE
END:VCALENDAR